BEGIN:VCALENDAR
VERSION:2.0
PRODID:-//Northwest Community Center - ECPv4.7.3//NONSGML v1.0//EN
CALSCALE:GREGORIAN
METHOD:PUBLISH
X-WR-CALNAME:Northwest Community Center
X-ORIGINAL-URL:https://northwestrockford.org
X-WR-CALDESC:Events for Northwest Community Center
BEGIN:VEVENT
DTSTART;VALUE=DATE:20180810
DTEND;VALUE=DATE:20180811
DTSTAMP:20260423T141650
CREATED:20180719T004309Z
LAST-MODIFIED:20180801T165528Z
UID:714-1533859200-1533945599@northwestrockford.org
SUMMARY:Last Day of Summer Camp
DESCRIPTION:Thank you for a great Summer! \n
URL:https://northwestrockford.org/event/last-day-of-summer-camp/
LOCATION:IL\, United States
END:VEVENT
END:VCALENDAR