BEGIN:VCALENDAR
VERSION:2.0
PRODID:-//Northwest Community Center - ECPv4.7.3//NONSGML v1.0//EN
CALSCALE:GREGORIAN
METHOD:PUBLISH
X-WR-CALNAME:Northwest Community Center
X-ORIGINAL-URL:https://northwestrockford.org
X-WR-CALDESC:Events for Northwest Community Center
BEGIN:VEVENT
DTSTART;VALUE=DATE:20180818
DTEND;VALUE=DATE:20180819
DTSTAMP:20260423T141701
CREATED:20180814T163947Z
LAST-MODIFIED:20180814T170052Z
UID:1132-1534550400-1534636799@northwestrockford.org
SUMMARY:NWCC Jr. Knights Football Schedule
DESCRIPTION:2018 Rock Valley Junior Tackle Schedule \nFlyweight 11 am \nLightweight 1pm \nHeavyweight 3pm \n
URL:https://northwestrockford.org/event/nwcc-jr-knights-football-schedule/
LOCATION:Northwest Community Center\, 1325 N. Johnston Ave.\, Rockford\, IL\, 61101\, United States
END:VEVENT
END:VCALENDAR